BEGIN:VCALENDAR
VERSION:2.0
PRODID:-//Diamond Brand Outdoors - ECPv4.6.22.1//NONSGML v1.0//EN
CALSCALE:GREGORIAN
METHOD:PUBLISH
X-WR-CALNAME:Diamond Brand Outdoors
X-ORIGINAL-URL:https://diamondbrandoutdoors.com
X-WR-CALDESC:Events for Diamond Brand Outdoors
BEGIN:VEVENT
DTSTART;TZID=America/New_York:20160914T180000
DTEND;TZID=America/New_York:20160914T190000
DTSTAMP:20260423T230924
CREATED:20160830T190003Z
LAST-MODIFIED:20160907T033223Z
UID:797-1473876000-1473879600@diamondbrandoutdoors.com
SUMMARY:Spend Less Play More Basics: Packing a Daypack
DESCRIPTION:There are plenty of checklists for backcountry and weekend expeditions\, but what are the essentials (and the good-to-haves) for a day hike? Sandi Newman will run through classic standbys and new technology. Feel free to bring your daypack in for a shakedown and get fitted for a new pack\, too! \nEveryone who attends will receive 20% OFF their purchase this evening. This event is free and open to the public. Kids and well-behaved pets with owner on leash are welcome. \nThe outdoors can be intimidating when you first start to explore. Spend Less Play More Basics is a free series of intro classes held at our store and lead by our expert team members. \nRSVP on Facebook \n
URL:https://diamondbrandoutdoors.com/event/spend-less-play-more-basics-packing-a-daypack
LOCATION:Frugal Backpacker\, 52 Westgate Parkway\, Asheville\, NC\, 28806\, United States
GEO:35.591971;-82.575512
X-APPLE-STRUCTURED-LOCATION;VALUE=URI;X-ADDRESS=Frugal Backpacker 52 Westgate Parkway Asheville NC 28806 United States;X-APPLE-RADIUS=500;X-TITLE=52 Westgate Parkway:geo:-82.575512,35.591971
CATEGORIES:Class
ATTACH;FMTTYPE=image/jpeg:https://diamondbrandoutdoors.com/wp-content/uploads/2016/08/Backpacking.jpg
END:VEVENT
END:VCALENDAR